BEGIN:VCALENDAR
VERSION:2.0
PRODID:-//Troy Hill Citizens - ECPv6.15.17//NONSGML v1.0//EN
CALSCALE:GREGORIAN
METHOD:PUBLISH
X-WR-CALNAME:Troy Hill Citizens
X-ORIGINAL-URL:https://troyhillpittsburgh.com
X-WR-CALDESC:Events for Troy Hill Citizens
REFRESH-INTERVAL;VALUE=DURATION:PT1H
X-Robots-Tag:noindex
X-PUBLISHED-TTL:PT1H
BEGIN:VTIMEZONE
TZID:America/New_York
BEGIN:DAYLIGHT
TZOFFSETFROM:-0500
TZOFFSETTO:-0400
TZNAME:EDT
DTSTART:20250309T070000
END:DAYLIGHT
BEGIN:STANDARD
TZOFFSETFROM:-0400
TZOFFSETTO:-0500
TZNAME:EST
DTSTART:20251102T060000
END:STANDARD
BEGIN:DAYLIGHT
TZOFFSETFROM:-0500
TZOFFSETTO:-0400
TZNAME:EDT
DTSTART:20260308T070000
END:DAYLIGHT
BEGIN:STANDARD
TZOFFSETFROM:-0400
TZOFFSETTO:-0500
TZNAME:EST
DTSTART:20261101T060000
END:STANDARD
BEGIN:DAYLIGHT
TZOFFSETFROM:-0500
TZOFFSETTO:-0400
TZNAME:EDT
DTSTART:20270314T070000
END:DAYLIGHT
BEGIN:STANDARD
TZOFFSETFROM:-0400
TZOFFSETTO:-0500
TZNAME:EST
DTSTART:20271107T060000
END:STANDARD
END:VTIMEZONE
BEGIN:VEVENT
DTSTART;TZID=America/New_York:20260812T180000
DTEND;TZID=America/New_York:20260812T190000
DTSTAMP:20260423T183639
CREATED:20260303T040950Z
LAST-MODIFIED:20260303T040950Z
UID:4515-1786557600-1786561200@troyhillpittsburgh.com
SUMMARY:August Community Meeting
DESCRIPTION:Troy Hill Community Meetings \n\n2026 Community Meeting Dates:\nAugust 12\, 2026\nOctober 14\, 2026\nDecember 9\, 2026\n\nMeeting Time: 6 p.m.Meeting Location Options:\nOnline – we will send out a Zoom link ahead of each community meeting for neighbors who cannot join us in person.In Person – Most Holy Name School | 1515 Tinsbury St\, Pittsburgh\, PA 15212\n\nJoin our community meetings to learn more about neighborhood news\, events\, and projects. If you have questions or topics for the next community meeting\, please reach out to: troyhillpittsburgh@gmail.com
URL:https://troyhillpittsburgh.com/calendar/august-community-meeting-2/
LOCATION:Most Holy Name School Hall\, 1515 Tinsbury St.\, Pittsburgh\, PA\, 15212\, United States
ATTACH;FMTTYPE=image/png:https://troyhillpittsburgh.com/wp-content/uploads/2022/03/cropped-THCLOGO-1.png
END:VEVENT
BEGIN:VEVENT
DTSTART;TZID=America/New_York:20260815T100000
DTEND;TZID=America/New_York:20260815T120000
DTSTAMP:20260423T183639
CREATED:20260402T125507Z
LAST-MODIFIED:20260402T125916Z
UID:4542-1786788000-1786795200@troyhillpittsburgh.com
SUMMARY:August Community Clean-Up
DESCRIPTION:Redd Up Our Hill!\n\n2026 Community Clean-Up Series:\nMarch 28 | 10 am – 12 pmMay 16 | 10 am – 12 pmJuly 11 | 10 am – 12 pmAugust 15 | 10 am – 12 pmSeptember 12 | 10 am – 12 pmOctober 24 | 10 am – 12 pm\n\nLet’s show some neighborhood pride and clean up our Hill! For each month’s clean up\, we’ll meet at 10 am in Troy Hill Citizens Park\, distribute supplies\, and spread out to clean up a different area.\n\nBring yourself & a neighbor/friend – and any water / snacks you think you may need during the event; we’ll supply clean up tools!
URL:https://troyhillpittsburgh.com/calendar/august-community-clean-up/
LOCATION:Troy Hill Citizens Park\, Claim St. & Hatteras St.\, Pittsburgh\, PA\, 15212\, United States
ATTACH;FMTTYPE=image/jpeg:https://troyhillpittsburgh.com/wp-content/uploads/2025/03/PXL_20210410_155036605-scaled.jpg
END:VEVENT
BEGIN:VEVENT
DTSTART;TZID=America/New_York:20260912T100000
DTEND;TZID=America/New_York:20260912T120000
DTSTAMP:20260423T183639
CREATED:20260402T125729Z
LAST-MODIFIED:20260402T125729Z
UID:4545-1789207200-1789214400@troyhillpittsburgh.com
SUMMARY:September Community Clean-Up
DESCRIPTION:Redd Up Our Hill!\n\n2026 Community Clean-Up Series:\nMarch 28 | 10 am – 12 pmMay 16 | 10 am – 12 pmJuly 11 | 10 am – 12 pmAugust 15 | 10 am – 12 pmSeptember 12 | 10 am – 12 pmOctober 24 | 10 am – 12 pm\n\nLet’s show some neighborhood pride and clean up our Hill! For each month’s clean up\, we’ll meet at 10 am in Troy Hill Citizens Park\, distribute supplies\, and spread out to clean up a different area.\n\nBring yourself & a neighbor/friend – and any water / snacks you think you may need during the event; we’ll supply clean up tools!
URL:https://troyhillpittsburgh.com/calendar/september-community-clean-up/
LOCATION:Troy Hill Citizens Park\, Claim St. & Hatteras St.\, Pittsburgh\, PA\, 15212\, United States
ATTACH;FMTTYPE=image/jpeg:https://troyhillpittsburgh.com/wp-content/uploads/2025/03/PXL_20210410_155036605-scaled.jpg
END:VEVENT
BEGIN:VEVENT
DTSTART;TZID=America/New_York:20260919T120000
DTEND;TZID=America/New_York:20260919T170000
DTSTAMP:20260423T183639
CREATED:20250320T220029Z
LAST-MODIFIED:20260402T121119Z
UID:4476-1789819200-1789837200@troyhillpittsburgh.com
SUMMARY:Pigtoberfest 2026
DESCRIPTION:Save The Date! We’re looking forward to another year of sharing food\, music\, dancing\, and the exchange of hellos with long-time and new neighbors. \nThere will be delicious food\, drinks\, live music\, vendors\, games\, and so much more! It’s a great way to enjoy the community\, meet your neighbors\, and invite friends to see our hill in all of its glory! \nFor updated announcements\, subscribe to our email list or check our Facebook page.
URL:https://troyhillpittsburgh.com/calendar/pigtoberfest2026/
LOCATION:Troy Hill Citizens Park\, Claim St. & Hatteras St.\, Pittsburgh\, PA\, 15212\, United States
ATTACH;FMTTYPE=image/jpeg:https://troyhillpittsburgh.com/wp-content/uploads/2024/02/unnamed-2.jpg
END:VEVENT
BEGIN:VEVENT
DTSTART;TZID=America/New_York:20261014T180000
DTEND;TZID=America/New_York:20261014T190000
DTSTAMP:20260423T183639
CREATED:20260303T041346Z
LAST-MODIFIED:20260303T041346Z
UID:4518-1792000800-1792004400@troyhillpittsburgh.com
SUMMARY:October Community Meeting
DESCRIPTION:2026 Community Meeting Dates:\nOctober 14\, 2026\nDecember 9\, 2026\n\nMeeting Time: 6 p.m.Meeting Location Options: \n\nOnline – we will send out a Zoom link ahead of each community meeting for neighbors who cannot join us in person.In Person – Most Holy Name School | 1515 Tinsbury St\, Pittsburgh\, PA 15212\n\nJoin our community meetings to learn more about neighborhood news\, events\, and projects. If you have questions or topics for the next community meeting\, please reach out to: troyhillpittsburgh@gmail.com
URL:https://troyhillpittsburgh.com/calendar/october-community-meeting-2/
LOCATION:Most Holy Name School Hall\, 1515 Tinsbury St.\, Pittsburgh\, PA\, 15212\, United States
ATTACH;FMTTYPE=image/png:https://troyhillpittsburgh.com/wp-content/uploads/2022/03/cropped-THCLOGO-1.png
END:VEVENT
BEGIN:VEVENT
DTSTART;TZID=America/New_York:20261024T100000
DTEND;TZID=America/New_York:20261024T120000
DTSTAMP:20260423T183639
CREATED:20260402T125837Z
LAST-MODIFIED:20260402T125837Z
UID:4547-1792836000-1792843200@troyhillpittsburgh.com
SUMMARY:October Community Clean-Up
DESCRIPTION:Redd Up Our Hill!\n\n2026 Community Clean-Up Series:\nMarch 28 | 10 am – 12 pmMay 16 | 10 am – 12 pmJuly 11 | 10 am – 12 pmAugust 15 | 10 am – 12 pmSeptember 12 | 10 am – 12 pmOctober 24 | 10 am – 12 pm\n\nLet’s show some neighborhood pride and clean up our Hill! For each month’s clean up\, we’ll meet at 10 am in Troy Hill Citizens Park\, distribute supplies\, and spread out to clean up a different area.\n\nBring yourself & a neighbor/friend – and any water / snacks you think you may need during the event; we’ll supply clean up tools!
URL:https://troyhillpittsburgh.com/calendar/october-community-clean-up/
LOCATION:Troy Hill Citizens Park\, Claim St. & Hatteras St.\, Pittsburgh\, PA\, 15212\, United States
ATTACH;FMTTYPE=image/jpeg:https://troyhillpittsburgh.com/wp-content/uploads/2025/03/PXL_20210410_155036605-scaled.jpg
END:VEVENT
BEGIN:VEVENT
DTSTART;TZID=America/New_York:20261129T150000
DTEND;TZID=America/New_York:20261129T170000
DTSTAMP:20260423T183639
CREATED:20250320T220406Z
LAST-MODIFIED:20260402T123340Z
UID:4478-1795964400-1795971600@troyhillpittsburgh.com
SUMMARY:Neighborhood Tree Lighting 2026
DESCRIPTION:Spark some holiday spirit with neighbors and\, if we’re good\, a special visitor! We’ll swap cookies (bring/make your favorite cookie to share!)\, hang your homemade ornaments\, and reflect on the year over hot cocoa.
URL:https://troyhillpittsburgh.com/calendar/neighborhood-tree-lighting-2/
LOCATION:Troy Hill Citizens Park\, Claim St. & Hatteras St.\, Pittsburgh\, PA\, 15212\, United States
ATTACH;FMTTYPE=image/jpeg:https://troyhillpittsburgh.com/wp-content/uploads/2025/03/PXL_20251123_203306619.PORTRAIT.ORIGINAL-scaled.jpg
END:VEVENT
BEGIN:VEVENT
DTSTART;TZID=America/New_York:20261209T180000
DTEND;TZID=America/New_York:20261209T190000
DTSTAMP:20260423T183639
CREATED:20260303T041508Z
LAST-MODIFIED:20260303T041519Z
UID:4523-1796839200-1796842800@troyhillpittsburgh.com
SUMMARY:December Community Meeting
DESCRIPTION:2026 Community Meeting Dates:\nDecember 9\, 2026 \nMeeting Time: 6 p.m.Meeting Location Options: \n\nOnline – we will send out a Zoom link ahead of each community meeting for neighbors who cannot join us in person.In Person – Most Holy Name School | 1515 Tinsbury St\, Pittsburgh\, PA 15212 \nJoin our community meetings to learn more about neighborhood news\, events\, and projects. If you have questions or topics for the next community meeting\, please reach out to: troyhillpittsburgh@gmail.com
URL:https://troyhillpittsburgh.com/calendar/december-community-meeting-2/
LOCATION:PA
ATTACH;FMTTYPE=image/png:https://troyhillpittsburgh.com/wp-content/uploads/2022/03/cropped-THCLOGO-1.png
END:VEVENT
END:VCALENDAR