BEGIN:VCALENDAR
VERSION:2.0
PRODID:-//Troy Hill Citizens - ECPv6.15.17//NONSGML v1.0//EN
CALSCALE:GREGORIAN
METHOD:PUBLISH
X-WR-CALNAME:Troy Hill Citizens
X-ORIGINAL-URL:https://troyhillpittsburgh.com
X-WR-CALDESC:Events for Troy Hill Citizens
REFRESH-INTERVAL;VALUE=DURATION:PT1H
X-Robots-Tag:noindex
X-PUBLISHED-TTL:PT1H
BEGIN:VTIMEZONE
TZID:America/New_York
BEGIN:DAYLIGHT
TZOFFSETFROM:-0500
TZOFFSETTO:-0400
TZNAME:EDT
DTSTART:20240310T070000
END:DAYLIGHT
BEGIN:STANDARD
TZOFFSETFROM:-0400
TZOFFSETTO:-0500
TZNAME:EST
DTSTART:20241103T060000
END:STANDARD
BEGIN:DAYLIGHT
TZOFFSETFROM:-0500
TZOFFSETTO:-0400
TZNAME:EDT
DTSTART:20250309T070000
END:DAYLIGHT
BEGIN:STANDARD
TZOFFSETFROM:-0400
TZOFFSETTO:-0500
TZNAME:EST
DTSTART:20251102T060000
END:STANDARD
BEGIN:DAYLIGHT
TZOFFSETFROM:-0500
TZOFFSETTO:-0400
TZNAME:EDT
DTSTART:20260308T070000
END:DAYLIGHT
BEGIN:STANDARD
TZOFFSETFROM:-0400
TZOFFSETTO:-0500
TZNAME:EST
DTSTART:20261101T060000
END:STANDARD
END:VTIMEZONE
BEGIN:VEVENT
DTSTART;TZID=America/New_York:20250906T100000
DTEND;TZID=America/New_York:20250906T120000
DTSTAMP:20260423T213442
CREATED:20250320T212138Z
LAST-MODIFIED:20250320T212138Z
UID:4459-1757152800-1757160000@troyhillpittsburgh.com
SUMMARY:Troy Hill Community Clean-Up
DESCRIPTION:Redd Up Our Hill!\n\nSeptember 6 | 10 am – 12 pmOctober 25 | 10 am – 12 pm\n\nLet’s show some neighborhood pride and clean up our Hill! For each clean up\, we’ll meet at at 10 am in Troy Hill Citizens Park\, distribute supplies\, and spread out to clean up a different area each month.\nBring yourself & a neighbor/friend – and any water / snacks you think you may need during the event; we’ll supply clean up tools!
URL:https://troyhillpittsburgh.com/calendar/troy-hill-community-clean-up-4/
LOCATION:Troy Hill Citizens Park\, Claim St. & Hatteras St.\, Pittsburgh\, PA\, 15212\, United States
ATTACH;FMTTYPE=image/jpeg:https://troyhillpittsburgh.com/wp-content/uploads/2025/03/PXL_20210410_155036605-scaled.jpg
END:VEVENT
END:VCALENDAR