BEGIN:VCALENDAR
VERSION:2.0
PRODID:-//Troy Hill Citizens - ECPv6.15.17//NONSGML v1.0//EN
CALSCALE:GREGORIAN
METHOD:PUBLISH
X-WR-CALNAME:Troy Hill Citizens
X-ORIGINAL-URL:https://troyhillpittsburgh.com
X-WR-CALDESC:Events for Troy Hill Citizens
REFRESH-INTERVAL;VALUE=DURATION:PT1H
X-Robots-Tag:noindex
X-PUBLISHED-TTL:PT1H
BEGIN:VTIMEZONE
TZID:America/New_York
BEGIN:DAYLIGHT
TZOFFSETFROM:-0500
TZOFFSETTO:-0400
TZNAME:EDT
DTSTART:20250309T070000
END:DAYLIGHT
BEGIN:STANDARD
TZOFFSETFROM:-0400
TZOFFSETTO:-0500
TZNAME:EST
DTSTART:20251102T060000
END:STANDARD
BEGIN:DAYLIGHT
TZOFFSETFROM:-0500
TZOFFSETTO:-0400
TZNAME:EDT
DTSTART:20260308T070000
END:DAYLIGHT
BEGIN:STANDARD
TZOFFSETFROM:-0400
TZOFFSETTO:-0500
TZNAME:EST
DTSTART:20261101T060000
END:STANDARD
BEGIN:DAYLIGHT
TZOFFSETFROM:-0500
TZOFFSETTO:-0400
TZNAME:EDT
DTSTART:20270314T070000
END:DAYLIGHT
BEGIN:STANDARD
TZOFFSETFROM:-0400
TZOFFSETTO:-0500
TZNAME:EST
DTSTART:20271107T060000
END:STANDARD
END:VTIMEZONE
BEGIN:VEVENT
DTSTART;TZID=America/New_York:20260516T100000
DTEND;TZID=America/New_York:20260516T120000
DTSTAMP:20260423T123519
CREATED:20260402T125312Z
LAST-MODIFIED:20260402T125925Z
UID:4538-1778925600-1778932800@troyhillpittsburgh.com
SUMMARY:May Community Clean-Up
DESCRIPTION:Redd Up Our Hill!\n\n2026 Community Clean-Up Series:\nMarch 28 | 10 am – 12 pmMay 16 | 10 am – 12 pmJuly 11 | 10 am – 12 pmAugust 15 | 10 am – 12 pmSeptember 12 | 10 am – 12 pmOctober 24 | 10 am – 12 pm\n\nLet’s show some neighborhood pride and clean up our Hill! For each month’s clean up\, we’ll meet at 10 am in Troy Hill Citizens Park\, distribute supplies\, and spread out to clean up a different area.\n\nBring yourself & a neighbor/friend – and any water / snacks you think you may need during the event; we’ll supply clean up tools!
URL:https://troyhillpittsburgh.com/calendar/may-community-clean-up/
LOCATION:Troy Hill Citizens Park\, Claim St. & Hatteras St.\, Pittsburgh\, PA\, 15212\, United States
ATTACH;FMTTYPE=image/jpeg:https://troyhillpittsburgh.com/wp-content/uploads/2025/03/PXL_20210410_155036605-scaled.jpg
END:VEVENT
BEGIN:VEVENT
DTSTART;TZID=America/New_York:20260530T090000
DTEND;TZID=America/New_York:20260530T160000
DTSTAMP:20260423T123519
CREATED:20260401T230309Z
LAST-MODIFIED:20260402T130546Z
UID:4529-1780131600-1780156800@troyhillpittsburgh.com
SUMMARY:2026 Troy Hill Neighborhood Yard Sale
DESCRIPTION:We’re thrilled to announce that we’ll be hosting the Fourth Annual Troy Hill Yard Sale!\n\nThis day promises to not only be a great yard sale\, but also to be a great way to connect with neighbors and visitors of the neighborhood! In addition to sales\, this event will bring food\, music\, plants\, and more!\n\nIf you’re planning to host a sale at your home\, you can submit your house to be included on our neighborhood map here.\n\nWe’re currently seeking vendors for this outdoor\, rain or shine event. Vendors are provided a 10×10 space in Troy Hill Citizens Park; vendors are required to provide their own tent\, table\, and chairs. Learn More & sign up here.
URL:https://troyhillpittsburgh.com/calendar/2026yardsale/
LOCATION:Troy Hill Citizens Park\, Claim St. & Hatteras St.\, Pittsburgh\, PA\, 15212\, United States
ATTACH;FMTTYPE=image/png:https://troyhillpittsburgh.com/wp-content/uploads/2026/04/Troy-Hill-2026-Yard-Sale-Flyer-2.png
END:VEVENT
END:VCALENDAR