BEGIN:VCALENDAR
VERSION:2.0
PRODID:-//Troy Hill Citizens - ECPv6.15.17//NONSGML v1.0//EN
CALSCALE:GREGORIAN
METHOD:PUBLISH
X-WR-CALNAME:Troy Hill Citizens
X-ORIGINAL-URL:https://troyhillpittsburgh.com
X-WR-CALDESC:Events for Troy Hill Citizens
REFRESH-INTERVAL;VALUE=DURATION:PT1H
X-Robots-Tag:noindex
X-PUBLISHED-TTL:PT1H
BEGIN:VTIMEZONE
TZID:America/New_York
BEGIN:DAYLIGHT
TZOFFSETFROM:-0500
TZOFFSETTO:-0400
TZNAME:EDT
DTSTART:20250309T070000
END:DAYLIGHT
BEGIN:STANDARD
TZOFFSETFROM:-0400
TZOFFSETTO:-0500
TZNAME:EST
DTSTART:20251102T060000
END:STANDARD
BEGIN:DAYLIGHT
TZOFFSETFROM:-0500
TZOFFSETTO:-0400
TZNAME:EDT
DTSTART:20260308T070000
END:DAYLIGHT
BEGIN:STANDARD
TZOFFSETFROM:-0400
TZOFFSETTO:-0500
TZNAME:EST
DTSTART:20261101T060000
END:STANDARD
BEGIN:DAYLIGHT
TZOFFSETFROM:-0500
TZOFFSETTO:-0400
TZNAME:EDT
DTSTART:20270314T070000
END:DAYLIGHT
BEGIN:STANDARD
TZOFFSETFROM:-0400
TZOFFSETTO:-0500
TZNAME:EST
DTSTART:20271107T060000
END:STANDARD
END:VTIMEZONE
BEGIN:VEVENT
DTSTART;TZID=America/New_York:20260610T180000
DTEND;TZID=America/New_York:20260610T190000
DTSTAMP:20260423T140324
CREATED:20260303T040520Z
LAST-MODIFIED:20260303T041116Z
UID:4513-1781114400-1781118000@troyhillpittsburgh.com
SUMMARY:June Community Meeting
DESCRIPTION:2026 Community Meeting Dates:\nJune 10\, 2026\nAugust 12\, 2026\nOctober 14\, 2026\nDecember 9\, 2026\n\nMeeting Time: 6 p.m.Meeting Location Options: \n\nOnline – we will send out a Zoom link ahead of each community meeting for neighbors who cannot join us in person.In Person – Most Holy Name School | 1515 Tinsbury St\, Pittsburgh\, PA 15212\n\nJoin our community meetings to learn more about neighborhood news\, events\, and projects. If you have questions or topics for the next community meeting\, please reach out to: troyhillpittsburgh@gmail.com
URL:https://troyhillpittsburgh.com/calendar/june-community-meeting-2/
LOCATION:Most Holy Name School Hall\, 1515 Tinsbury St.\, Pittsburgh\, PA\, 15212\, United States
ATTACH;FMTTYPE=image/png:https://troyhillpittsburgh.com/wp-content/uploads/2022/03/cropped-THCLOGO-1.png
END:VEVENT
END:VCALENDAR